BEGIN:VCALENDAR
VERSION:2.0
PRODID:-//TARC - ECPv6.6.0.2//NONSGML v1.0//EN
CALSCALE:GREGORIAN
METHOD:PUBLISH
X-WR-CALNAME:TARC
X-ORIGINAL-URL:https://www.ridetarc.org
X-WR-CALDESC:Events for TARC
REFRESH-INTERVAL;VALUE=DURATION:PT1H
X-Robots-Tag:noindex
X-PUBLISHED-TTL:PT1H
BEGIN:VTIMEZONE
TZID:America/New_York
BEGIN:DAYLIGHT
TZOFFSETFROM:-0500
TZOFFSETTO:-0400
TZNAME:EDT
DTSTART:20240310T070000
END:DAYLIGHT
BEGIN:STANDARD
TZOFFSETFROM:-0400
TZOFFSETTO:-0500
TZNAME:EST
DTSTART:20241103T060000
END:STANDARD
END:VTIMEZONE
BEGIN:VEVENT
DTSTART;TZID=America/New_York:20240805T190000
DTEND;TZID=America/New_York:20240805T190000
DTSTAMP:20260423T071014
CREATED:20240731T181510Z
LAST-MODIFIED:20240802T173209Z
UID:21845-1722884400-1722884400@www.ridetarc.org
SUMMARY:Aug 5: Briarwood City
DESCRIPTION:
URL:https://www.ridetarc.org/event/aug-5-briarwood-city/
LOCATION:City of Meadow Vale Kentucky\, 9408 Blossom Lane\, Meadow Vale\, KY\, 40241
END:VEVENT
END:VCALENDAR