BEGIN:VCALENDAR
VERSION:2.0
PRODID:-//TARC - ECPv6.6.0.2//NONSGML v1.0//EN
CALSCALE:GREGORIAN
METHOD:PUBLISH
X-ORIGINAL-URL:https://www.ridetarc.org
X-WR-CALDESC:Events for TARC
REFRESH-INTERVAL;VALUE=DURATION:PT1H
X-Robots-Tag:noindex
X-PUBLISHED-TTL:PT1H
BEGIN:VTIMEZONE
TZID:America/New_York
BEGIN:DAYLIGHT
TZOFFSETFROM:-0500
TZOFFSETTO:-0400
TZNAME:EDT
DTSTART:20240310T070000
END:DAYLIGHT
BEGIN:STANDARD
TZOFFSETFROM:-0400
TZOFFSETTO:-0500
TZNAME:EST
DTSTART:20241103T060000
END:STANDARD
TZID:America/Kentucky/Louisville
BEGIN:DAYLIGHT
TZOFFSETFROM:-0500
TZOFFSETTO:-0400
TZNAME:EDT
DTSTART:20240310T070000
END:DAYLIGHT
BEGIN:STANDARD
TZOFFSETFROM:-0400
TZOFFSETTO:-0500
TZNAME:EST
DTSTART:20241103T060000
END:STANDARD
END:VTIMEZONE
BEGIN:VEVENT
DTSTART;TZID=America/New_York:20240813T160000
DTEND;TZID=America/New_York:20240813T160000
DTSTAMP:20260423T071121
CREATED:20240731T181642Z
LAST-MODIFIED:20240802T162631Z
UID:21857-1723564800-1723564800@www.ridetarc.org
SUMMARY:Aug 13: Butchertown Business Alliance
DESCRIPTION:
URL:https://www.ridetarc.org/event/aug-13-butchertown-business/
LOCATION:Signarama Louisville Downtown\, 1430 Mellwood Ave\, Louisville\, KY\, 40206
END:VEVENT
BEGIN:VEVENT
DTSTART;TZID=America/New_York:20240813T183000
DTEND;TZID=America/New_York:20240813T183000
DTSTAMP:20260423T071121
CREATED:20240731T181709Z
LAST-MODIFIED:20240802T164000Z
UID:21859-1723573800-1723573800@www.ridetarc.org
SUMMARY:Aug 13: Petersburg Neighborhood Association
DESCRIPTION:
URL:https://www.ridetarc.org/event/aug-13-petersburg/
LOCATION:Newburg Branch Library\, 4800 Exeter Ave\, Louisville\, KY\, 40218
END:VEVENT
BEGIN:VEVENT
DTSTART;TZID=America/New_York:20240813T190000
DTEND;TZID=America/New_York:20240813T190000
DTSTAMP:20260423T071121
CREATED:20240731T181650Z
LAST-MODIFIED:20240802T162813Z
UID:21858-1723575600-1723575600@www.ridetarc.org
SUMMARY:Aug 13: Bonnycastle Homestead Association
DESCRIPTION:
URL:https://www.ridetarc.org/event/aug-13-bonnycastle/
LOCATION:Commodore Condominiums\, 2140 Bonnycastle Ave\, Louisville\, KY\, 40205
END:VEVENT
BEGIN:VEVENT
DTSTART;TZID=America/Kentucky/Louisville:20240813T190000
DTEND;TZID=America/Kentucky/Louisville:20240813T200000
DTSTAMP:20260423T071121
CREATED:20240802T163352Z
LAST-MODIFIED:20240802T163923Z
UID:22080-1723575600-1723579200@www.ridetarc.org
SUMMARY:Aug 13: City of St Matthews
DESCRIPTION:
URL:https://www.ridetarc.org/event/aug-13-city-of-st-matthews/
LOCATION:St. Matthews City Hall\, 3941 Grandview Ave\, Louisville\, KY\, 40207\, United States
END:VEVENT
END:VCALENDAR