BEGIN:VCALENDAR
VERSION:2.0
PRODID:-//TARC - ECPv6.6.0.2//NONSGML v1.0//EN
CALSCALE:GREGORIAN
METHOD:PUBLISH
X-ORIGINAL-URL:https://www.ridetarc.org
X-WR-CALDESC:Events for TARC
REFRESH-INTERVAL;VALUE=DURATION:PT1H
X-Robots-Tag:noindex
X-PUBLISHED-TTL:PT1H
BEGIN:VTIMEZONE
TZID:America/Kentucky/Louisville
BEGIN:DAYLIGHT
TZOFFSETFROM:-0500
TZOFFSETTO:-0400
TZNAME:EDT
DTSTART:20240310T070000
END:DAYLIGHT
BEGIN:STANDARD
TZOFFSETFROM:-0400
TZOFFSETTO:-0500
TZNAME:EST
DTSTART:20241103T060000
END:STANDARD
END:VTIMEZONE
BEGIN:VEVENT
DTSTART;TZID=America/Kentucky/Louisville:20240814T110000
DTEND;TZID=America/Kentucky/Louisville:20240814T110000
DTSTAMP:20260423T071120
CREATED:20240819T151842Z
LAST-MODIFIED:20240819T164058Z
UID:22558-1723633200-1723633200@www.ridetarc.org
SUMMARY:Aug 14: Downtown Food Trucks
DESCRIPTION:
URL:https://www.ridetarc.org/event/aug-14-downtown-food-trucks/
LOCATION:4th & Jefferson\, 4th & Jefferson\, Louisville\, KY\, United States
END:VEVENT
END:VCALENDAR