BEGIN:VCALENDAR
VERSION:2.0
PRODID:-//TARC - ECPv6.6.0.2//NONSGML v1.0//EN
CALSCALE:GREGORIAN
METHOD:PUBLISH
X-WR-CALNAME:TARC
X-ORIGINAL-URL:https://www.ridetarc.org
X-WR-CALDESC:Events for TARC
REFRESH-INTERVAL;VALUE=DURATION:PT1H
X-Robots-Tag:noindex
X-PUBLISHED-TTL:PT1H
BEGIN:VTIMEZONE
TZID:America/Kentucky/Louisville
BEGIN:DAYLIGHT
TZOFFSETFROM:-0500
TZOFFSETTO:-0400
TZNAME:EDT
DTSTART:20240310T070000
END:DAYLIGHT
BEGIN:STANDARD
TZOFFSETFROM:-0400
TZOFFSETTO:-0500
TZNAME:EST
DTSTART:20241103T060000
END:STANDARD
TZID:America/New_York
BEGIN:DAYLIGHT
TZOFFSETFROM:-0500
TZOFFSETTO:-0400
TZNAME:EDT
DTSTART:20240310T070000
END:DAYLIGHT
BEGIN:STANDARD
TZOFFSETFROM:-0400
TZOFFSETTO:-0500
TZNAME:EST
DTSTART:20241103T060000
END:STANDARD
END:VTIMEZONE
BEGIN:VEVENT
DTSTART;TZID=America/Kentucky/Louisville:20240815T080000
DTEND;TZID=America/Kentucky/Louisville:20240815T080000
DTSTAMP:20260423T071014
CREATED:20240809T184728Z
LAST-MODIFIED:20240809T185131Z
UID:22315-1723708800-1723708800@www.ridetarc.org
SUMMARY:Aug 15: Jeffersontown Chamber of Commerce
DESCRIPTION:
URL:https://www.ridetarc.org/event/aug-15-jeffersontown-chamber-of-commerce/
LOCATION:1810 Plantside Drive\, 1810 Plantside Drive\, Louisville\, KY\, United States
END:VEVENT
BEGIN:VEVENT
DTSTART;TZID=America/Kentucky/Louisville:20240815T083000
DTEND;TZID=America/Kentucky/Louisville:20240815T083000
DTSTAMP:20260423T071014
CREATED:20240819T152103Z
LAST-MODIFIED:20240819T164514Z
UID:22561-1723710600-1723710600@www.ridetarc.org
SUMMARY:Aug 15: Ahrens Work Transition Program
DESCRIPTION:
URL:https://www.ridetarc.org/event/aug-15-ahrens-work-transition-program/
LOCATION:TBD
END:VEVENT
BEGIN:VEVENT
DTSTART;TZID=America/New_York:20240815T120000
DTEND;TZID=America/New_York:20240815T120000
DTSTAMP:20260423T071014
CREATED:20240731T181934Z
LAST-MODIFIED:20240805T134702Z
UID:21888-1723723200-1723723200@www.ridetarc.org
SUMMARY:Aug 15: Zoom Session
DESCRIPTION:Join the Zoom call: https://us06web.zoom.us/j/87845150951
URL:https://www.ridetarc.org/event/aug-15-zoom-session/
LOCATION:KY
END:VEVENT
BEGIN:VEVENT
DTSTART;TZID=America/New_York:20240815T180000
DTEND;TZID=America/New_York:20240815T190000
DTSTAMP:20260423T071014
CREATED:20240731T182025Z
LAST-MODIFIED:20240805T135627Z
UID:21889-1723744800-1723748400@www.ridetarc.org
SUMMARY:Aug 15: Zoom Session
DESCRIPTION:Join the Zoom call: https://us06web.zoom.us/j/81918977603
URL:https://www.ridetarc.org/event/aug-15-zoom-session-2/
LOCATION:KY
END:VEVENT
BEGIN:VEVENT
DTSTART;TZID=America/Kentucky/Louisville:20240815T180000
DTEND;TZID=America/Kentucky/Louisville:20240815T190000
DTSTAMP:20260423T071014
CREATED:20240809T144153Z
LAST-MODIFIED:20240809T144153Z
UID:22272-1723744800-1723748400@www.ridetarc.org
SUMMARY:Aug 15: Louisville Urban League
DESCRIPTION:
URL:https://www.ridetarc.org/event/aug-15-louisville-urban-league/
LOCATION:1535 West Broadway\, Louisville\, KY\, USA
END:VEVENT
END:VCALENDAR