BEGIN:VCALENDAR
VERSION:2.0
PRODID:-//TARC - ECPv6.6.0.2//NONSGML v1.0//EN
CALSCALE:GREGORIAN
METHOD:PUBLISH
X-WR-CALNAME:TARC
X-ORIGINAL-URL:https://www.ridetarc.org
X-WR-CALDESC:Events for TARC
REFRESH-INTERVAL;VALUE=DURATION:PT1H
X-Robots-Tag:noindex
X-PUBLISHED-TTL:PT1H
BEGIN:VTIMEZONE
TZID:America/Kentucky/Louisville
BEGIN:DAYLIGHT
TZOFFSETFROM:-0500
TZOFFSETTO:-0400
TZNAME:EDT
DTSTART:20240310T070000
END:DAYLIGHT
BEGIN:STANDARD
TZOFFSETFROM:-0400
TZOFFSETTO:-0500
TZNAME:EST
DTSTART:20241103T060000
END:STANDARD
END:VTIMEZONE
BEGIN:VEVENT
DTSTART;TZID=America/Kentucky/Louisville:20240816T110000
DTEND;TZID=America/Kentucky/Louisville:20240816T110000
DTSTAMP:20260423T071015
CREATED:20240809T184951Z
LAST-MODIFIED:20240809T184951Z
UID:22318-1723806000-1723806000@www.ridetarc.org
SUMMARY:Aug 16: South Louisville Community Ministries
DESCRIPTION:
URL:https://www.ridetarc.org/event/aug-16-south-louisville-community-ministries/
LOCATION:KY
END:VEVENT
BEGIN:VEVENT
DTSTART;TZID=America/Kentucky/Louisville:20240816T180000
DTEND;TZID=America/Kentucky/Louisville:20240816T180000
DTSTAMP:20260423T071015
CREATED:20240808T172644Z
LAST-MODIFIED:20240808T172644Z
UID:22243-1723831200-1723831200@www.ridetarc.org
SUMMARY:Aug 16: National Federation of Blind
DESCRIPTION:
URL:https://www.ridetarc.org/event/aug-16-national-federation-of-blind/
LOCATION:Hikes Point Christian Church\, Hikes Lane\, Louisville\, KY\, United States
END:VEVENT
END:VCALENDAR