BEGIN:VCALENDAR
VERSION:2.0
PRODID:-//TARC - ECPv6.6.0.2//NONSGML v1.0//EN
CALSCALE:GREGORIAN
METHOD:PUBLISH
X-WR-CALNAME:TARC
X-ORIGINAL-URL:https://www.ridetarc.org
X-WR-CALDESC:Events for TARC
REFRESH-INTERVAL;VALUE=DURATION:PT1H
X-Robots-Tag:noindex
X-PUBLISHED-TTL:PT1H
BEGIN:VTIMEZONE
TZID:America/Kentucky/Louisville
BEGIN:DAYLIGHT
TZOFFSETFROM:-0500
TZOFFSETTO:-0400
TZNAME:EDT
DTSTART:20240310T070000
END:DAYLIGHT
BEGIN:STANDARD
TZOFFSETFROM:-0400
TZOFFSETTO:-0500
TZNAME:EST
DTSTART:20241103T060000
END:STANDARD
END:VTIMEZONE
BEGIN:VEVENT
DTSTART;TZID=America/Kentucky/Louisville:20240817T143000
DTEND;TZID=America/Kentucky/Louisville:20240817T143000
DTSTAMP:20260423T071015
CREATED:20240809T185533Z
LAST-MODIFIED:20240809T185533Z
UID:22320-1723905000-1723905000@www.ridetarc.org
SUMMARY:Aug 17: Metro Disability Coalition
DESCRIPTION:
URL:https://www.ridetarc.org/event/aug-17-metro-disability-coalition/
LOCATION:2222 South 9th Street\, 2222 South 9th Street\, Louisville\, KY\, United States
END:VEVENT
END:VCALENDAR