BEGIN:VCALENDAR
VERSION:2.0
PRODID:-//TARC - ECPv6.6.0.2//NONSGML v1.0//EN
CALSCALE:GREGORIAN
METHOD:PUBLISH
X-ORIGINAL-URL:https://www.ridetarc.org
X-WR-CALDESC:Events for TARC
REFRESH-INTERVAL;VALUE=DURATION:PT1H
X-Robots-Tag:noindex
X-PUBLISHED-TTL:PT1H
BEGIN:VTIMEZONE
TZID:America/Kentucky/Louisville
BEGIN:DAYLIGHT
TZOFFSETFROM:-0500
TZOFFSETTO:-0400
TZNAME:EDT
DTSTART:20240310T070000
END:DAYLIGHT
BEGIN:STANDARD
TZOFFSETFROM:-0400
TZOFFSETTO:-0500
TZNAME:EST
DTSTART:20241103T060000
END:STANDARD
END:VTIMEZONE
BEGIN:VEVENT
DTSTART;TZID=America/Kentucky/Louisville:20240902T070000
DTEND;TZID=America/Kentucky/Louisville:20240902T070000
DTSTAMP:20260423T061219
CREATED:20240830T215338Z
LAST-MODIFIED:20240830T215338Z
UID:22955-1725260400-1725260400@www.ridetarc.org
SUMMARY:Sept 2: Mayor's Hike\, Bike & Paddle
DESCRIPTION:
URL:https://www.ridetarc.org/event/sept-2-mayors-hike-bike-paddle/
LOCATION:Waterfront Park\, Louisville\, United States
END:VEVENT
BEGIN:VEVENT
DTSTART;TZID=America/Kentucky/Louisville:20240902T150000
DTEND;TZID=America/Kentucky/Louisville:20240902T200000
DTSTAMP:20260423T061219
CREATED:20240820T144356Z
LAST-MODIFIED:20240820T144356Z
UID:22681-1725289200-1725307200@www.ridetarc.org
SUMMARY:Bus Stop Pop Up\, Weather Permitting
DESCRIPTION:Staff will be popping up at this bus stop during peak hours within this time frame to share information and answer questions.
URL:https://www.ridetarc.org/event/bus-stop-pop-up-weather-permitting-12/
LOCATION:South Roy Wilkins @ West Muhammad Ali
END:VEVENT
END:VCALENDAR