BEGIN:VCALENDAR
VERSION:2.0
PRODID:-//TARC - ECPv6.6.0.2//NONSGML v1.0//EN
CALSCALE:GREGORIAN
METHOD:PUBLISH
X-ORIGINAL-URL:https://www.ridetarc.org
X-WR-CALDESC:Events for TARC
REFRESH-INTERVAL;VALUE=DURATION:PT1H
X-Robots-Tag:noindex
X-PUBLISHED-TTL:PT1H
BEGIN:VTIMEZONE
TZID:America/Kentucky/Louisville
BEGIN:DAYLIGHT
TZOFFSETFROM:-0500
TZOFFSETTO:-0400
TZNAME:EDT
DTSTART:20250309T070000
END:DAYLIGHT
BEGIN:STANDARD
TZOFFSETFROM:-0400
TZOFFSETTO:-0500
TZNAME:EST
DTSTART:20251102T060000
END:STANDARD
END:VTIMEZONE
BEGIN:VEVENT
DTSTART;TZID=America/Kentucky/Louisville:20250417T070000
DTEND;TZID=America/Kentucky/Louisville:20250417T100000
DTSTAMP:20260422T203347
CREATED:20250312T013259Z
LAST-MODIFIED:20250312T013733Z
UID:27809-1744873200-1744884000@www.ridetarc.org
SUMMARY:Bus Stop Pop-Up
DESCRIPTION:
URL:https://www.ridetarc.org/event/3rd-central-station-blvd/
LOCATION:3rd @ Central Station Blvd
END:VEVENT
BEGIN:VEVENT
DTSTART;TZID=America/Kentucky/Louisville:20250417T120000
DTEND;TZID=America/Kentucky/Louisville:20250417T130000
DTSTAMP:20260422T203347
CREATED:20250310T132508Z
LAST-MODIFIED:20250310T132508Z
UID:27739-1744891200-1744894800@www.ridetarc.org
SUMMARY:TARC Zoom Office Hours
DESCRIPTION:https://us06web.zoom.us/j/81073223933
URL:https://www.ridetarc.org/event/tarc-zoom-office-hours-6/
LOCATION:KY
END:VEVENT
BEGIN:VEVENT
DTSTART;TZID=America/Kentucky/Louisville:20250417T150000
DTEND;TZID=America/Kentucky/Louisville:20250417T180000
DTSTAMP:20260422T203347
CREATED:20250304T031909Z
LAST-MODIFIED:20250304T031909Z
UID:27444-1744902000-1744912800@www.ridetarc.org
SUMMARY:Kroger Goss Ave
DESCRIPTION:
URL:https://www.ridetarc.org/event/kroger-goss-ave/
LOCATION:Kroger Goss Ave\, 1265 Goss Ave\, Louisville\, KY
END:VEVENT
BEGIN:VEVENT
DTSTART;TZID=America/Kentucky/Louisville:20250417T173000
DTEND;TZID=America/Kentucky/Louisville:20250417T190000
DTSTAMP:20260422T203347
CREATED:20250304T032236Z
LAST-MODIFIED:20250304T032236Z
UID:27447-1744911000-1744916400@www.ridetarc.org
SUMMARY:JCPS Transition Fair
DESCRIPTION:
URL:https://www.ridetarc.org/event/jcps-transition-fair/
LOCATION:Atherton High School\, Dundee Road\, Louisville\, KY
END:VEVENT
BEGIN:VEVENT
DTSTART;TZID=America/Kentucky/Louisville:20250417T180000
DTEND;TZID=America/Kentucky/Louisville:20250417T190000
DTSTAMP:20260422T203347
CREATED:20250310T133441Z
LAST-MODIFIED:20250310T133441Z
UID:27753-1744912800-1744916400@www.ridetarc.org
SUMMARY:TARC Zoom Office Hours
DESCRIPTION:https://us06web.zoom.us/j/86442131260
URL:https://www.ridetarc.org/event/tarc-zoom-office-hours-13/
LOCATION:KY
END:VEVENT
END:VCALENDAR