BEGIN:VCALENDAR
VERSION:2.0
PRODID:-//TARC - ECPv6.6.0.2//NONSGML v1.0//EN
CALSCALE:GREGORIAN
METHOD:PUBLISH
X-ORIGINAL-URL:https://www.ridetarc.org
X-WR-CALDESC:Events for TARC
REFRESH-INTERVAL;VALUE=DURATION:PT1H
X-Robots-Tag:noindex
X-PUBLISHED-TTL:PT1H
BEGIN:VTIMEZONE
TZID:America/Kentucky/Louisville
BEGIN:DAYLIGHT
TZOFFSETFROM:-0500
TZOFFSETTO:-0400
TZNAME:EDT
DTSTART:20250309T070000
END:DAYLIGHT
BEGIN:STANDARD
TZOFFSETFROM:-0400
TZOFFSETTO:-0500
TZNAME:EST
DTSTART:20251102T060000
END:STANDARD
END:VTIMEZONE
BEGIN:VEVENT
DTSTART;TZID=America/Kentucky/Louisville:20250421T130000
DTEND;TZID=America/Kentucky/Louisville:20250421T140000
DTSTAMP:20260422T203346
CREATED:20250304T032705Z
LAST-MODIFIED:20250304T032705Z
UID:27450-1745240400-1745244000@www.ridetarc.org
SUMMARY:W.E. Seay Plaza
DESCRIPTION:
URL:https://www.ridetarc.org/event/w-e-seay-plaza/
LOCATION:W.E. Seay Plaza\, Waterson Park\, Louisville\, KY
END:VEVENT
BEGIN:VEVENT
DTSTART;TZID=America/Kentucky/Louisville:20250421T180000
DTEND;TZID=America/Kentucky/Louisville:20250421T190000
DTSTAMP:20260422T203346
CREATED:20250318T160212Z
LAST-MODIFIED:20250318T160212Z
UID:27924-1745258400-1745262000@www.ridetarc.org
SUMMARY:Germantown-Paristown Neighborhood
DESCRIPTION:
URL:https://www.ridetarc.org/event/germantown-paristown-neighborhood/
LOCATION:1000 Swan Street\, 1000 Swan Street\, Louisville\, KY
END:VEVENT
BEGIN:VEVENT
DTSTART;TZID=America/Kentucky/Louisville:20250421T190000
DTEND;TZID=America/Kentucky/Louisville:20250421T200000
DTSTAMP:20260422T203346
CREATED:20250331T195234Z
LAST-MODIFIED:20250331T195234Z
UID:27980-1745262000-1745265600@www.ridetarc.org
SUMMARY:Cherokee Triangle Neighborhood
DESCRIPTION:
URL:https://www.ridetarc.org/event/cherokee-triangle-neighborhood/
LOCATION:Mid-City Mall Library\, 1250 Bardstown Rd Ste 4\, Louisville\, KY\, 40204
END:VEVENT
END:VCALENDAR