BEGIN:VCALENDAR
VERSION:2.0
PRODID:-//TARC - ECPv6.6.0.2//NONSGML v1.0//EN
CALSCALE:GREGORIAN
METHOD:PUBLISH
X-WR-CALNAME:TARC
X-ORIGINAL-URL:https://www.ridetarc.org
X-WR-CALDESC:Events for TARC
REFRESH-INTERVAL;VALUE=DURATION:PT1H
X-Robots-Tag:noindex
X-PUBLISHED-TTL:PT1H
BEGIN:VTIMEZONE
TZID:America/Kentucky/Louisville
BEGIN:DAYLIGHT
TZOFFSETFROM:-0500
TZOFFSETTO:-0400
TZNAME:EDT
DTSTART:20250309T070000
END:DAYLIGHT
BEGIN:STANDARD
TZOFFSETFROM:-0400
TZOFFSETTO:-0500
TZNAME:EST
DTSTART:20251102T060000
END:STANDARD
END:VTIMEZONE
BEGIN:VEVENT
DTSTART;TZID=America/Kentucky/Louisville:20250306T160000
DTEND;TZID=America/Kentucky/Louisville:20250306T180000
DTSTAMP:20260423T032518
CREATED:20250303T174545Z
LAST-MODIFIED:20250303T174545Z
UID:27305-1741276800-1741284000@www.ridetarc.org
SUMMARY:Riders Club: Pizza Party
DESCRIPTION:
URL:https://www.ridetarc.org/event/riders-club-pizza-party/
LOCATION:Bearno’s Pizza\, 301 W. Market St\, Louisville\, KY\, 40202\, United States
END:VEVENT
BEGIN:VEVENT
DTSTART;TZID=America/Kentucky/Louisville:20250309T180000
DTEND;TZID=America/Kentucky/Louisville:20250309T190000
DTSTAMP:20260423T032518
CREATED:20250303T175719Z
LAST-MODIFIED:20250303T175719Z
UID:27313-1741543200-1741546800@www.ridetarc.org
SUMMARY:St. Rafael Green Giants
DESCRIPTION:
URL:https://www.ridetarc.org/event/st-rafael-green-giants/
LOCATION:St. Rafael\, 2141 Lancashire Ave\, Louisville\, ky\, 40205
END:VEVENT
BEGIN:VEVENT
DTSTART;TZID=America/Kentucky/Louisville:20250311T110000
DTEND;TZID=America/Kentucky/Louisville:20250311T130000
DTSTAMP:20260423T032518
CREATED:20250303T180224Z
LAST-MODIFIED:20250303T180410Z
UID:27320-1741690800-1741698000@www.ridetarc.org
SUMMARY:Goodwill Partner Day
DESCRIPTION:
URL:https://www.ridetarc.org/event/goodwill-partner-day/
LOCATION:Goodwill\, 2820 W. Broadway\, Louisville\, ky\, 40211
END:VEVENT
BEGIN:VEVENT
DTSTART;TZID=America/Kentucky/Louisville:20250311T183000
DTEND;TZID=America/Kentucky/Louisville:20250311T193000
DTSTAMP:20260423T032518
CREATED:20250303T180542Z
LAST-MODIFIED:20250303T180542Z
UID:27323-1741717800-1741721400@www.ridetarc.org
SUMMARY:Clifton Heights Community Council
DESCRIPTION:
URL:https://www.ridetarc.org/event/clifton-heights-community-council/
LOCATION:Mellwood Art Center\, 1860 Mellwood Ave.\, Louisville\, KY\, 40206
END:VEVENT
BEGIN:VEVENT
DTSTART;TZID=America/Kentucky/Louisville:20250312T120000
DTEND;TZID=America/Kentucky/Louisville:20250312T160000
DTSTAMP:20260423T032518
CREATED:20250303T180759Z
LAST-MODIFIED:20250303T180759Z
UID:27325-1741780800-1741795200@www.ridetarc.org
SUMMARY:Liberty Green Resource Fair
DESCRIPTION:
URL:https://www.ridetarc.org/event/liberty-green-resource-fair/
LOCATION:Liberty Green\, East Jefferson Street\, Louisville\, ky
END:VEVENT
BEGIN:VEVENT
DTSTART;TZID=America/Kentucky/Louisville:20250313T120000
DTEND;TZID=America/Kentucky/Louisville:20250313T130000
DTSTAMP:20260423T032518
CREATED:20250310T132057Z
LAST-MODIFIED:20250310T132057Z
UID:27729-1741867200-1741870800@www.ridetarc.org
SUMMARY:TARC Zoom Office Hours
DESCRIPTION:https://us06web.zoom.us/j/81073223933
URL:https://www.ridetarc.org/event/tarc-zoom-office-hours/
LOCATION:KY
END:VEVENT
BEGIN:VEVENT
DTSTART;TZID=America/Kentucky/Louisville:20250313T173000
DTEND;TZID=America/Kentucky/Louisville:20250313T183000
DTSTAMP:20260423T032518
CREATED:20250303T181309Z
LAST-MODIFIED:20250303T181309Z
UID:27328-1741887000-1741890600@www.ridetarc.org
SUMMARY:California Neighborhood
DESCRIPTION:
URL:https://www.ridetarc.org/event/california-neighborhood/
LOCATION:1600 West Catherine Street\, 1600 West Catherine Street\, Louisville\, United States
END:VEVENT
BEGIN:VEVENT
DTSTART;TZID=America/Kentucky/Louisville:20250313T180000
DTEND;TZID=America/Kentucky/Louisville:20250313T190000
DTSTAMP:20260423T032518
CREATED:20250310T132933Z
LAST-MODIFIED:20250310T132933Z
UID:27743-1741888800-1741892400@www.ridetarc.org
SUMMARY:TARC Zoom Office Hours
DESCRIPTION:https://us06web.zoom.us/j/86442131260
URL:https://www.ridetarc.org/event/tarc-zoom-office-hours-8/
LOCATION:KY
END:VEVENT
BEGIN:VEVENT
DTSTART;TZID=America/Kentucky/Louisville:20250314T183000
DTEND;TZID=America/Kentucky/Louisville:20250314T193000
DTSTAMP:20260423T032518
CREATED:20250303T181634Z
LAST-MODIFIED:20250303T181634Z
UID:27330-1741977000-1741980600@www.ridetarc.org
SUMMARY:Christ Temple Christian Life Center
DESCRIPTION:
URL:https://www.ridetarc.org/event/christ-temple-christian-life-center/
LOCATION:723 South 45th Street\, 723 South 45th Street\, Louisville\, KY\, 40211\, United States
END:VEVENT
BEGIN:VEVENT
DTSTART;TZID=America/Kentucky/Louisville:20250317T183000
DTEND;TZID=America/Kentucky/Louisville:20250317T193000
DTSTAMP:20260423T032518
CREATED:20250303T182203Z
LAST-MODIFIED:20250303T182255Z
UID:27332-1742236200-1742239800@www.ridetarc.org
SUMMARY:Original Highlands Neighborhood
DESCRIPTION:
URL:https://www.ridetarc.org/event/original-highlands-neighborhood/
LOCATION:Highland Community Ministries\, East Breckinridge St\, Louisville\, ky
END:VEVENT
BEGIN:VEVENT
DTSTART;TZID=America/Kentucky/Louisville:20250318T150000
DTEND;TZID=America/Kentucky/Louisville:20250318T173000
DTSTAMP:20260423T032518
CREATED:20250303T183015Z
LAST-MODIFIED:20250303T183015Z
UID:27336-1742310000-1742319000@www.ridetarc.org
SUMMARY:Riders Club: Please & Thank You Coffee
DESCRIPTION:
URL:https://www.ridetarc.org/event/riders-club-please-thank-you-coffee/
LOCATION:Please & Thank You “Frank”\, 2341 Frankfort Ave\, Louisville\, KY
END:VEVENT
BEGIN:VEVENT
DTSTART;TZID=America/Kentucky/Louisville:20250318T183000
DTEND;TZID=America/Kentucky/Louisville:20250318T193000
DTSTAMP:20260423T032518
CREATED:20250318T160341Z
LAST-MODIFIED:20250318T160341Z
UID:27927-1742322600-1742326200@www.ridetarc.org
SUMMARY:Shawnee Neighborhood
DESCRIPTION:
URL:https://www.ridetarc.org/event/shawnee-neighborhood/
LOCATION:Port Shaw Building\, 3713 W Market St\, Louisville\, KY\, 40212
END:VEVENT
BEGIN:VEVENT
DTSTART;TZID=America/Kentucky/Louisville:20250319T120000
DTEND;TZID=America/Kentucky/Louisville:20250319T140000
DTSTAMP:20260423T032518
CREATED:20250312T014210Z
LAST-MODIFIED:20250312T014210Z
UID:27815-1742385600-1742392800@www.ridetarc.org
SUMMARY:Bus Stop Pop-Up
DESCRIPTION:
URL:https://www.ridetarc.org/event/bus-stop-pop-up-13/
LOCATION:S. Roy Wilkins @ W Muhammad Ali\, S. Roy Wilkins @ W. Muhammad Ali\, LO
END:VEVENT
BEGIN:VEVENT
DTSTART;TZID=America/Kentucky/Louisville:20250319T180000
DTEND;TZID=America/Kentucky/Louisville:20250319T190000
DTSTAMP:20260423T032518
CREATED:20250303T183458Z
LAST-MODIFIED:20250303T183800Z
UID:27340-1742407200-1742410800@www.ridetarc.org
SUMMARY:Shelby Park Neighborhood
DESCRIPTION:
URL:https://www.ridetarc.org/event/shelby-park-neighborhood/
LOCATION:Shelby Park Community Center\, 600 E Oak St\, Louisville\, KY\, 45203
END:VEVENT
BEGIN:VEVENT
DTSTART;TZID=America/Kentucky/Louisville:20250320T070000
DTEND;TZID=America/Kentucky/Louisville:20250320T100000
DTSTAMP:20260423T032518
CREATED:20250312T015551Z
LAST-MODIFIED:20250312T015551Z
UID:27827-1742454000-1742464800@www.ridetarc.org
SUMMARY:Bus Stop Pop-Up
DESCRIPTION:
URL:https://www.ridetarc.org/event/bus-stop-pop-up-17/
LOCATION:Dixie @ Dixie Manor\, Dixie @ Dixie Manor\, Louisville\, KY
END:VEVENT
BEGIN:VEVENT
DTSTART;TZID=America/Kentucky/Louisville:20250320T120000
DTEND;TZID=America/Kentucky/Louisville:20250320T130000
DTSTAMP:20260423T032518
CREATED:20250310T132151Z
LAST-MODIFIED:20250310T132151Z
UID:27731-1742472000-1742475600@www.ridetarc.org
SUMMARY:TARC Zoom Office Hours
DESCRIPTION:https://us06web.zoom.us/j/81073223933
URL:https://www.ridetarc.org/event/tarc-zoom-office-hours-2/
LOCATION:KY
END:VEVENT
BEGIN:VEVENT
DTSTART;TZID=America/Kentucky/Louisville:20250320T150000
DTEND;TZID=America/Kentucky/Louisville:20250320T180000
DTSTAMP:20260423T032518
CREATED:20250303T184105Z
LAST-MODIFIED:20250303T184105Z
UID:27342-1742482800-1742493600@www.ridetarc.org
SUMMARY:Kroger Highlands
DESCRIPTION:
URL:https://www.ridetarc.org/event/kroger-highlands/
LOCATION:Kroger Highlands\, 2440 Bardstown Rd\, Louisville\, KY
END:VEVENT
BEGIN:VEVENT
DTSTART;TZID=America/Kentucky/Louisville:20250320T153000
DTEND;TZID=America/Kentucky/Louisville:20250320T183000
DTSTAMP:20260423T032518
CREATED:20250312T014809Z
LAST-MODIFIED:20250312T014809Z
UID:27819-1742484600-1742495400@www.ridetarc.org
SUMMARY:Bus Stop Pop-Up
DESCRIPTION:
URL:https://www.ridetarc.org/event/bus-stop-pop-up-14/
LOCATION:Market @ South 6th
END:VEVENT
BEGIN:VEVENT
DTSTART;TZID=America/Kentucky/Louisville:20250320T160000
DTEND;TZID=America/Kentucky/Louisville:20250320T180000
DTSTAMP:20260423T032518
CREATED:20250312T020021Z
LAST-MODIFIED:20250312T020021Z
UID:27829-1742486400-1742493600@www.ridetarc.org
SUMMARY:Bus Stop Pop-Up
DESCRIPTION:
URL:https://www.ridetarc.org/event/bus-stop-pop-up-18/
LOCATION:Dixie @ Hill Street\, Dixie @ Hill Street\, Louisville\, KY
END:VEVENT
BEGIN:VEVENT
DTSTART;TZID=America/Kentucky/Louisville:20250320T180000
DTEND;TZID=America/Kentucky/Louisville:20250320T190000
DTSTAMP:20260423T032518
CREATED:20250310T133009Z
LAST-MODIFIED:20250310T133009Z
UID:27745-1742493600-1742497200@www.ridetarc.org
SUMMARY:TARC Zoom Office Hours
DESCRIPTION:https://us06web.zoom.us/j/86442131260
URL:https://www.ridetarc.org/event/tarc-zoom-office-hours-9/
LOCATION:KY
END:VEVENT
BEGIN:VEVENT
DTSTART;TZID=America/Kentucky/Louisville:20250320T190000
DTEND;TZID=America/Kentucky/Louisville:20250320T200000
DTSTAMP:20260423T032518
CREATED:20250317T171134Z
LAST-MODIFIED:20250317T171134Z
UID:27902-1742497200-1742500800@www.ridetarc.org
SUMMARY:Jefferson County League of Cities
DESCRIPTION:
URL:https://www.ridetarc.org/event/jefferson-county-league-of-cities/
LOCATION:515 Wood Rd\, 515 Wood Rd\, Louisville\, KY\, United States
END:VEVENT
BEGIN:VEVENT
DTSTART;TZID=America/Kentucky/Louisville:20250322T120000
DTEND;TZID=America/Kentucky/Louisville:20250322T180000
DTSTAMP:20260423T032518
CREATED:20250303T184326Z
LAST-MODIFIED:20250303T184603Z
UID:27345-1742644800-1742666400@www.ridetarc.org
SUMMARY:NuLu Bock Fest
DESCRIPTION:
URL:https://www.ridetarc.org/event/nulu-bock-fest/
LOCATION:East Market St\, Louisville\, KY
END:VEVENT
BEGIN:VEVENT
DTSTART;TZID=America/Kentucky/Louisville:20250323T170000
DTEND;TZID=America/Kentucky/Louisville:20250323T190000
DTSTAMP:20260423T032518
CREATED:20250303T184821Z
LAST-MODIFIED:20250303T184821Z
UID:27348-1742749200-1742756400@www.ridetarc.org
SUMMARY:National Federation for the Blind Kentucky
DESCRIPTION:
URL:https://www.ridetarc.org/event/national-federation-for-the-blind-kentucky/
LOCATION:Kentucky School for the Blind\, 1867 Frankfort Ave\, Louisville\, KY
END:VEVENT
BEGIN:VEVENT
DTSTART;TZID=America/Kentucky/Louisville:20250324T110000
DTEND;TZID=America/Kentucky/Louisville:20250324T140000
DTSTAMP:20260423T032518
CREATED:20250303T185033Z
LAST-MODIFIED:20250303T185613Z
UID:27351-1742814000-1742824800@www.ridetarc.org
SUMMARY:UofL Student Center
DESCRIPTION:
URL:https://www.ridetarc.org/event/uofl-student-center/
LOCATION:UofL Student Center\, South Floyd Street\, Louisville\, KY
END:VEVENT
BEGIN:VEVENT
DTSTART;TZID=America/Kentucky/Louisville:20250324T140000
DTEND;TZID=America/Kentucky/Louisville:20250324T160000
DTSTAMP:20260423T032518
CREATED:20250311T015624Z
LAST-MODIFIED:20250311T015624Z
UID:27790-1742824800-1742832000@www.ridetarc.org
SUMMARY:Bus Stop Pop-Up
DESCRIPTION:
URL:https://www.ridetarc.org/event/bus-stop-pop-up-10/
LOCATION:W. Broadway @ Cecil\, W. Broadway @ Cecil\, Louisville\, KY
END:VEVENT
BEGIN:VEVENT
DTSTART;TZID=America/Kentucky/Louisville:20250324T190000
DTEND;TZID=America/Kentucky/Louisville:20250324T200000
DTSTAMP:20260423T032518
CREATED:20250317T173143Z
LAST-MODIFIED:20250317T173143Z
UID:27913-1742842800-1742846400@www.ridetarc.org
SUMMARY:Streets for People
DESCRIPTION:
URL:https://www.ridetarc.org/event/streets-for-people/
LOCATION:Hi-Wire Brewing\, 642 Baxter Ave\, Louisville\, KY
END:VEVENT
BEGIN:VEVENT
DTSTART;TZID=America/Kentucky/Louisville:20250325T110000
DTEND;TZID=America/Kentucky/Louisville:20250325T140000
DTSTAMP:20260423T032518
CREATED:20250303T185457Z
LAST-MODIFIED:20250303T185457Z
UID:27353-1742900400-1742911200@www.ridetarc.org
SUMMARY:Goodwill Partner Day
DESCRIPTION:
URL:https://www.ridetarc.org/event/goodwill-partner-day-2/
LOCATION:Goodwill\, 2820 W. Broadway\, Louisville\, ky\, 40211
END:VEVENT
BEGIN:VEVENT
DTSTART;TZID=America/Kentucky/Louisville:20250325T190000
DTEND;TZID=America/Kentucky/Louisville:20250325T200000
DTSTAMP:20260423T032518
CREATED:20250303T185759Z
LAST-MODIFIED:20250303T185939Z
UID:27358-1742929200-1742932800@www.ridetarc.org
SUMMARY:Old Louisville Neighborhood Council
DESCRIPTION:
URL:https://www.ridetarc.org/event/old-louisville-neighborhood-council/
LOCATION:Old Louisville Information Center\, South 4th Street\, Louisville\, KY\, 45203
END:VEVENT
BEGIN:VEVENT
DTSTART;TZID=America/Kentucky/Louisville:20250326T083000
DTEND;TZID=America/Kentucky/Louisville:20250326T093000
DTSTAMP:20260423T032518
CREATED:20250303T190042Z
LAST-MODIFIED:20250303T190042Z
UID:27360-1742977800-1742981400@www.ridetarc.org
SUMMARY:Highland Commerce Guild
DESCRIPTION:
URL:https://www.ridetarc.org/event/highland-commerce-guild/
LOCATION:Gilda’s Club Kentuckiana\, 2440 Grinstead Drive\, Louisville\, KY\, 40204
END:VEVENT
BEGIN:VEVENT
DTSTART;TZID=America/Kentucky/Louisville:20250326T150000
DTEND;TZID=America/Kentucky/Louisville:20250326T180000
DTSTAMP:20260423T032518
CREATED:20250311T013451Z
LAST-MODIFIED:20250311T013451Z
UID:27770-1743001200-1743012000@www.ridetarc.org
SUMMARY:Bus Stop Pop-Up
DESCRIPTION:
URL:https://www.ridetarc.org/event/bus-stop-pop-up-2/
LOCATION:W. Jefferson @ S. 6th\, W. Jefferson @ S. 6th St\, Louisville\, KY
END:VEVENT
END:VCALENDAR