BEGIN:VCALENDAR
VERSION:2.0
PRODID:-//TARC - ECPv6.6.0.2//NONSGML v1.0//EN
CALSCALE:GREGORIAN
METHOD:PUBLISH
X-ORIGINAL-URL:https://www.ridetarc.org
X-WR-CALDESC:Events for TARC
REFRESH-INTERVAL;VALUE=DURATION:PT1H
X-Robots-Tag:noindex
X-PUBLISHED-TTL:PT1H
BEGIN:VTIMEZONE
TZID:America/Kentucky/Louisville
BEGIN:DAYLIGHT
TZOFFSETFROM:-0500
TZOFFSETTO:-0400
TZNAME:EDT
DTSTART:20250309T070000
END:DAYLIGHT
BEGIN:STANDARD
TZOFFSETFROM:-0400
TZOFFSETTO:-0500
TZNAME:EST
DTSTART:20251102T060000
END:STANDARD
END:VTIMEZONE
BEGIN:VEVENT
DTSTART;TZID=America/Kentucky/Louisville:20250320T150000
DTEND;TZID=America/Kentucky/Louisville:20250320T180000
DTSTAMP:20260423T071603
CREATED:20250303T184105Z
LAST-MODIFIED:20250303T184105Z
UID:27342-1742482800-1742493600@www.ridetarc.org
SUMMARY:Kroger Highlands
DESCRIPTION:
URL:https://www.ridetarc.org/event/kroger-highlands/
LOCATION:Kroger Highlands\, 2440 Bardstown Rd\, Louisville\, KY
END:VEVENT
BEGIN:VEVENT
DTSTART;TZID=America/Kentucky/Louisville:20250320T153000
DTEND;TZID=America/Kentucky/Louisville:20250320T183000
DTSTAMP:20260423T071603
CREATED:20250312T014809Z
LAST-MODIFIED:20250312T014809Z
UID:27819-1742484600-1742495400@www.ridetarc.org
SUMMARY:Bus Stop Pop-Up
DESCRIPTION:
URL:https://www.ridetarc.org/event/bus-stop-pop-up-14/
LOCATION:Market @ South 6th
END:VEVENT
BEGIN:VEVENT
DTSTART;TZID=America/Kentucky/Louisville:20250320T160000
DTEND;TZID=America/Kentucky/Louisville:20250320T180000
DTSTAMP:20260423T071603
CREATED:20250312T020021Z
LAST-MODIFIED:20250312T020021Z
UID:27829-1742486400-1742493600@www.ridetarc.org
SUMMARY:Bus Stop Pop-Up
DESCRIPTION:
URL:https://www.ridetarc.org/event/bus-stop-pop-up-18/
LOCATION:Dixie @ Hill Street\, Dixie @ Hill Street\, Louisville\, KY
END:VEVENT
BEGIN:VEVENT
DTSTART;TZID=America/Kentucky/Louisville:20250320T180000
DTEND;TZID=America/Kentucky/Louisville:20250320T190000
DTSTAMP:20260423T071603
CREATED:20250310T133009Z
LAST-MODIFIED:20250310T133009Z
UID:27745-1742493600-1742497200@www.ridetarc.org
SUMMARY:TARC Zoom Office Hours
DESCRIPTION:https://us06web.zoom.us/j/86442131260
URL:https://www.ridetarc.org/event/tarc-zoom-office-hours-9/
LOCATION:KY
END:VEVENT
BEGIN:VEVENT
DTSTART;TZID=America/Kentucky/Louisville:20250320T190000
DTEND;TZID=America/Kentucky/Louisville:20250320T200000
DTSTAMP:20260423T071603
CREATED:20250317T171134Z
LAST-MODIFIED:20250317T171134Z
UID:27902-1742497200-1742500800@www.ridetarc.org
SUMMARY:Jefferson County League of Cities
DESCRIPTION:
URL:https://www.ridetarc.org/event/jefferson-county-league-of-cities/
LOCATION:515 Wood Rd\, 515 Wood Rd\, Louisville\, KY\, United States
END:VEVENT
BEGIN:VEVENT
DTSTART;TZID=America/Kentucky/Louisville:20250322T120000
DTEND;TZID=America/Kentucky/Louisville:20250322T180000
DTSTAMP:20260423T071603
CREATED:20250303T184326Z
LAST-MODIFIED:20250303T184603Z
UID:27345-1742644800-1742666400@www.ridetarc.org
SUMMARY:NuLu Bock Fest
DESCRIPTION:
URL:https://www.ridetarc.org/event/nulu-bock-fest/
LOCATION:East Market St\, Louisville\, KY
END:VEVENT
BEGIN:VEVENT
DTSTART;TZID=America/Kentucky/Louisville:20250323T170000
DTEND;TZID=America/Kentucky/Louisville:20250323T190000
DTSTAMP:20260423T071603
CREATED:20250303T184821Z
LAST-MODIFIED:20250303T184821Z
UID:27348-1742749200-1742756400@www.ridetarc.org
SUMMARY:National Federation for the Blind Kentucky
DESCRIPTION:
URL:https://www.ridetarc.org/event/national-federation-for-the-blind-kentucky/
LOCATION:Kentucky School for the Blind\, 1867 Frankfort Ave\, Louisville\, KY
END:VEVENT
BEGIN:VEVENT
DTSTART;TZID=America/Kentucky/Louisville:20250324T110000
DTEND;TZID=America/Kentucky/Louisville:20250324T140000
DTSTAMP:20260423T071603
CREATED:20250303T185033Z
LAST-MODIFIED:20250303T185613Z
UID:27351-1742814000-1742824800@www.ridetarc.org
SUMMARY:UofL Student Center
DESCRIPTION:
URL:https://www.ridetarc.org/event/uofl-student-center/
LOCATION:UofL Student Center\, South Floyd Street\, Louisville\, KY
END:VEVENT
BEGIN:VEVENT
DTSTART;TZID=America/Kentucky/Louisville:20250324T140000
DTEND;TZID=America/Kentucky/Louisville:20250324T160000
DTSTAMP:20260423T071603
CREATED:20250311T015624Z
LAST-MODIFIED:20250311T015624Z
UID:27790-1742824800-1742832000@www.ridetarc.org
SUMMARY:Bus Stop Pop-Up
DESCRIPTION:
URL:https://www.ridetarc.org/event/bus-stop-pop-up-10/
LOCATION:W. Broadway @ Cecil\, W. Broadway @ Cecil\, Louisville\, KY
END:VEVENT
BEGIN:VEVENT
DTSTART;TZID=America/Kentucky/Louisville:20250324T190000
DTEND;TZID=America/Kentucky/Louisville:20250324T200000
DTSTAMP:20260423T071603
CREATED:20250317T173143Z
LAST-MODIFIED:20250317T173143Z
UID:27913-1742842800-1742846400@www.ridetarc.org
SUMMARY:Streets for People
DESCRIPTION:
URL:https://www.ridetarc.org/event/streets-for-people/
LOCATION:Hi-Wire Brewing\, 642 Baxter Ave\, Louisville\, KY
END:VEVENT
BEGIN:VEVENT
DTSTART;TZID=America/Kentucky/Louisville:20250325T110000
DTEND;TZID=America/Kentucky/Louisville:20250325T140000
DTSTAMP:20260423T071603
CREATED:20250303T185457Z
LAST-MODIFIED:20250303T185457Z
UID:27353-1742900400-1742911200@www.ridetarc.org
SUMMARY:Goodwill Partner Day
DESCRIPTION:
URL:https://www.ridetarc.org/event/goodwill-partner-day-2/
LOCATION:Goodwill\, 2820 W. Broadway\, Louisville\, ky\, 40211
END:VEVENT
BEGIN:VEVENT
DTSTART;TZID=America/Kentucky/Louisville:20250325T190000
DTEND;TZID=America/Kentucky/Louisville:20250325T200000
DTSTAMP:20260423T071603
CREATED:20250303T185759Z
LAST-MODIFIED:20250303T185939Z
UID:27358-1742929200-1742932800@www.ridetarc.org
SUMMARY:Old Louisville Neighborhood Council
DESCRIPTION:
URL:https://www.ridetarc.org/event/old-louisville-neighborhood-council/
LOCATION:Old Louisville Information Center\, South 4th Street\, Louisville\, KY\, 45203
END:VEVENT
BEGIN:VEVENT
DTSTART;TZID=America/Kentucky/Louisville:20250326T083000
DTEND;TZID=America/Kentucky/Louisville:20250326T093000
DTSTAMP:20260423T071603
CREATED:20250303T190042Z
LAST-MODIFIED:20250303T190042Z
UID:27360-1742977800-1742981400@www.ridetarc.org
SUMMARY:Highland Commerce Guild
DESCRIPTION:
URL:https://www.ridetarc.org/event/highland-commerce-guild/
LOCATION:Gilda’s Club Kentuckiana\, 2440 Grinstead Drive\, Louisville\, KY\, 40204
END:VEVENT
BEGIN:VEVENT
DTSTART;TZID=America/Kentucky/Louisville:20250326T150000
DTEND;TZID=America/Kentucky/Louisville:20250326T180000
DTSTAMP:20260423T071603
CREATED:20250311T013451Z
LAST-MODIFIED:20250311T013451Z
UID:27770-1743001200-1743012000@www.ridetarc.org
SUMMARY:Bus Stop Pop-Up
DESCRIPTION:
URL:https://www.ridetarc.org/event/bus-stop-pop-up-2/
LOCATION:W. Jefferson @ S. 6th\, W. Jefferson @ S. 6th St\, Louisville\, KY
END:VEVENT
BEGIN:VEVENT
DTSTART;TZID=America/Kentucky/Louisville:20250326T153000
DTEND;TZID=America/Kentucky/Louisville:20250326T183000
DTSTAMP:20260423T071603
CREATED:20250312T015312Z
LAST-MODIFIED:20250312T015312Z
UID:27825-1743003000-1743013800@www.ridetarc.org
SUMMARY:Bus Stop Pop-Up
DESCRIPTION:
URL:https://www.ridetarc.org/event/bus-stop-pop-up-16/
LOCATION:S. Preston @ Broadway\, S. Preston @ Broadway
END:VEVENT
BEGIN:VEVENT
DTSTART;TZID=America/Kentucky/Louisville:20250326T170000
DTEND;TZID=America/Kentucky/Louisville:20250326T200000
DTSTAMP:20260423T071603
CREATED:20250303T190232Z
LAST-MODIFIED:20250303T190307Z
UID:27362-1743008400-1743019200@www.ridetarc.org
SUMMARY:Metro Council District 1 Community Meeting
DESCRIPTION:
URL:https://www.ridetarc.org/event/metro-council-district-1-community-meeting/
LOCATION:Southwick Community Center\, Southern Ave\, Louisville\, KY
END:VEVENT
BEGIN:VEVENT
DTSTART;TZID=America/Kentucky/Louisville:20250326T180000
DTEND;TZID=America/Kentucky/Louisville:20250326T190000
DTSTAMP:20260423T071603
CREATED:20250318T161416Z
LAST-MODIFIED:20250318T161416Z
UID:27938-1743012000-1743015600@www.ridetarc.org
SUMMARY:Metro Council District 9
DESCRIPTION:
URL:https://www.ridetarc.org/event/metro-council-district-9/
LOCATION:St. Joseph Children’s Home\, 2823 Frankfort Ave\, Louisville\, KY
END:VEVENT
BEGIN:VEVENT
DTSTART;TZID=America/Kentucky/Louisville:20250326T190000
DTEND;TZID=America/Kentucky/Louisville:20250326T200000
DTSTAMP:20260423T071603
CREATED:20250318T160950Z
LAST-MODIFIED:20250318T160950Z
UID:27932-1743015600-1743019200@www.ridetarc.org
SUMMARY:DSA Louisville
DESCRIPTION:
URL:https://www.ridetarc.org/event/dsa-louisville/
LOCATION:900 South Shelby St\, 900 South Shelby St\, Louisville\, KY
END:VEVENT
BEGIN:VEVENT
DTSTART;TZID=America/Kentucky/Louisville:20250327T080000
DTEND;TZID=America/Kentucky/Louisville:20250327T100000
DTSTAMP:20260423T071603
CREATED:20250312T013843Z
LAST-MODIFIED:20250312T013843Z
UID:27813-1743062400-1743069600@www.ridetarc.org
SUMMARY:Bus Stop Pop-Up
DESCRIPTION:
URL:https://www.ridetarc.org/event/bus-stop-pop-up-12/
LOCATION:3rd @ Central Station Blvd
END:VEVENT
BEGIN:VEVENT
DTSTART;TZID=America/Kentucky/Louisville:20250327T120000
DTEND;TZID=America/Kentucky/Louisville:20250327T130000
DTSTAMP:20260423T071603
CREATED:20250310T132314Z
LAST-MODIFIED:20250310T132314Z
UID:27733-1743076800-1743080400@www.ridetarc.org
SUMMARY:TARC Zoom Office Hours
DESCRIPTION:https://us06web.zoom.us/j/81073223933
URL:https://www.ridetarc.org/event/tarc-zoom-office-hours-3/
LOCATION:KY
END:VEVENT
BEGIN:VEVENT
DTSTART;TZID=America/Kentucky/Louisville:20250327T123000
DTEND;TZID=America/Kentucky/Louisville:20250327T133000
DTSTAMP:20260423T071603
CREATED:20250318T155928Z
LAST-MODIFIED:20250318T155928Z
UID:27922-1743078600-1743082200@www.ridetarc.org
SUMMARY:KIPDA Transportation Committee
DESCRIPTION:
URL:https://www.ridetarc.org/event/kipda-transportation-committee/
LOCATION:11520 Commonwealth Drive\, 11520 Commonwealth Drive\, Louisville\, KY\, United States
END:VEVENT
BEGIN:VEVENT
DTSTART;TZID=America/Kentucky/Louisville:20250327T150000
DTEND;TZID=America/Kentucky/Louisville:20250327T180000
DTSTAMP:20260423T071603
CREATED:20250303T191206Z
LAST-MODIFIED:20250317T134352Z
UID:27370-1743087600-1743098400@www.ridetarc.org
SUMMARY:Kroger Auburndale
DESCRIPTION:
URL:https://www.ridetarc.org/event/kroger-auburndale/
LOCATION:Kroger Aubrndale\, New Cut Rd\, Louisville\, KY
END:VEVENT
BEGIN:VEVENT
DTSTART;TZID=America/Kentucky/Louisville:20250327T153000
DTEND;TZID=America/Kentucky/Louisville:20250327T183000
DTSTAMP:20260423T071603
CREATED:20250311T014035Z
LAST-MODIFIED:20250311T014035Z
UID:27774-1743089400-1743100200@www.ridetarc.org
SUMMARY:Bus Stop Pop-Up
DESCRIPTION:
URL:https://www.ridetarc.org/event/bus-stop-pop-up-4/
LOCATION:Eastern Parkway @ Preston\, Eastern Parkway @ Preston\, Louisville\, KY
END:VEVENT
BEGIN:VEVENT
DTSTART;TZID=America/Kentucky/Louisville:20250327T180000
DTEND;TZID=America/Kentucky/Louisville:20250327T190000
DTSTAMP:20260423T071603
CREATED:20250303T190905Z
LAST-MODIFIED:20250303T190905Z
UID:27365-1743098400-1743102000@www.ridetarc.org
SUMMARY:Sheppard Square Residents
DESCRIPTION:
URL:https://www.ridetarc.org/event/sheppard-square-residents/
LOCATION:Smoketown Community\, 760 S. Hancock St\, Louisville\, KY
END:VEVENT
BEGIN:VEVENT
DTSTART;TZID=America/Kentucky/Louisville:20250327T180000
DTEND;TZID=America/Kentucky/Louisville:20250327T190000
DTSTAMP:20260423T071603
CREATED:20250310T133049Z
LAST-MODIFIED:20250310T133049Z
UID:27747-1743098400-1743102000@www.ridetarc.org
SUMMARY:TARC Zoom Office Hours
DESCRIPTION:https://us06web.zoom.us/j/86442131260
URL:https://www.ridetarc.org/event/tarc-zoom-office-hours-10/
LOCATION:KY
END:VEVENT
BEGIN:VEVENT
DTSTART;TZID=America/Kentucky/Louisville:20250327T190000
DTEND;TZID=America/Kentucky/Louisville:20250327T200000
DTSTAMP:20260423T071603
CREATED:20250303T191011Z
LAST-MODIFIED:20250303T191011Z
UID:27368-1743102000-1743105600@www.ridetarc.org
SUMMARY:Tyler Park Neighborhood
DESCRIPTION:
URL:https://www.ridetarc.org/event/tyler-park-neighborhood/
LOCATION:Mid-City Mall Library\, 1250 Bardstown Rd Ste 4\, Louisville\, KY\, 40204
END:VEVENT
BEGIN:VEVENT
DTSTART;TZID=America/Kentucky/Louisville:20250329T110000
DTEND;TZID=America/Kentucky/Louisville:20250329T143000
DTSTAMP:20260423T071603
CREATED:20250303T191708Z
LAST-MODIFIED:20250303T191708Z
UID:27373-1743246000-1743258600@www.ridetarc.org
SUMMARY:Sickle Cell Warriors
DESCRIPTION:
URL:https://www.ridetarc.org/event/sickle-cell-warriors/
LOCATION:Republic Bank YMCA\, West Broadway\, Louisville\, KY
END:VEVENT
BEGIN:VEVENT
DTSTART;TZID=America/Kentucky/Louisville:20250329T140000
DTEND;TZID=America/Kentucky/Louisville:20250329T180000
DTSTAMP:20260423T071603
CREATED:20250303T191914Z
LAST-MODIFIED:20250303T191914Z
UID:27376-1743256800-1743271200@www.ridetarc.org
SUMMARY:Earth Fest 2025
DESCRIPTION:
URL:https://www.ridetarc.org/event/earth-fest-2025/
LOCATION:Alberta Jones Park\, 744 S. 23rd St\, Louisville\, KY
END:VEVENT
BEGIN:VEVENT
DTSTART;TZID=America/Kentucky/Louisville:20250331T130000
DTEND;TZID=America/Kentucky/Louisville:20250331T160000
DTSTAMP:20260423T071603
CREATED:20250312T020729Z
LAST-MODIFIED:20250312T020729Z
UID:27836-1743426000-1743436800@www.ridetarc.org
SUMMARY:Bus Stop Pop-Up
DESCRIPTION:
URL:https://www.ridetarc.org/event/bus-stop-pop-up-21/
LOCATION:4th @ Broadway
END:VEVENT
BEGIN:VEVENT
DTSTART;TZID=America/Kentucky/Louisville:20250401T103000
DTEND;TZID=America/Kentucky/Louisville:20250401T123000
DTSTAMP:20260423T071603
CREATED:20250303T200957Z
LAST-MODIFIED:20250303T200957Z
UID:27385-1743503400-1743510600@www.ridetarc.org
SUMMARY:Bellarmine University Student Center
DESCRIPTION:
URL:https://www.ridetarc.org/event/bellarmine-university-student-center/
LOCATION:Bellarmine University\, 2001 Newburg Road\, Louisville\, KY\, 40205\, United States
END:VEVENT
END:VCALENDAR