BEGIN:VCALENDAR
VERSION:2.0
PRODID:-//TARC - ECPv6.6.0.2//NONSGML v1.0//EN
CALSCALE:GREGORIAN
METHOD:PUBLISH
X-ORIGINAL-URL:https://www.ridetarc.org
X-WR-CALDESC:Events for TARC
REFRESH-INTERVAL;VALUE=DURATION:PT1H
X-Robots-Tag:noindex
X-PUBLISHED-TTL:PT1H
BEGIN:VTIMEZONE
TZID:America/Kentucky/Louisville
BEGIN:DAYLIGHT
TZOFFSETFROM:-0500
TZOFFSETTO:-0400
TZNAME:EDT
DTSTART:20250309T070000
END:DAYLIGHT
BEGIN:STANDARD
TZOFFSETFROM:-0400
TZOFFSETTO:-0500
TZNAME:EST
DTSTART:20251102T060000
END:STANDARD
END:VTIMEZONE
BEGIN:VEVENT
DTSTART;TZID=America/Kentucky/Louisville:20250430T183000
DTEND;TZID=America/Kentucky/Louisville:20250430T193000
DTSTAMP:20260423T084204
CREATED:20250331T194157Z
LAST-MODIFIED:20250331T194157Z
UID:27976-1746037800-1746041400@www.ridetarc.org
SUMMARY:Metro Council District 21
DESCRIPTION:
URL:https://www.ridetarc.org/event/metro-council-district-21/
LOCATION:1241 Gilmore Lane\, 1241 Gilmore Lane\, Louisville\, KY\, 40213
END:VEVENT
END:VCALENDAR